BEGIN:VCALENDAR
VERSION:2.0
PRODID:-//Pracheen Mantra Yantra Vigyan by Kailash Siddhashram - ECPv5.3.1.1//NONSGML v1.0//EN
CALSCALE:GREGORIAN
METHOD:PUBLISH
X-WR-CALNAME:Pracheen Mantra Yantra Vigyan by Kailash Siddhashram
X-ORIGINAL-URL:https://pmyv.net
X-WR-CALDESC:Events for Pracheen Mantra Yantra Vigyan by Kailash Siddhashram
BEGIN:VTIMEZONE
TZID:Asia/Kolkata
BEGIN:STANDARD
TZOFFSETFROM:+0530
TZOFFSETTO:+0530
TZNAME:IST
DTSTART:20250101T000000
END:STANDARD
END:VTIMEZONE
BEGIN:VEVENT
DTSTART;VALUE=DATE:20250922
DTEND;VALUE=DATE:20250923
DTSTAMP:20260423T014630
CREATED:20250707T143601Z
LAST-MODIFIED:20250707T143601Z
UID:24991-1758499200-1758585599@pmyv.net
SUMMARY:अग्रसेन जयंती Agrasen Jayanti
DESCRIPTION:
URL:https://pmyv.net/eventcalendar/%e0%a4%85%e0%a4%97%e0%a5%8d%e0%a4%b0%e0%a4%b8%e0%a5%87%e0%a4%a8-%e0%a4%9c%e0%a4%af%e0%a4%82%e0%a4%a4%e0%a5%80-agrasen-jayanti-5/
CATEGORIES:Kaal Nirnaya
END:VEVENT
END:VCALENDAR