BEGIN:VCALENDAR
VERSION:2.0
PRODID:-//Pracheen Mantra Yantra Vigyan by Kailash Siddhashram - ECPv5.3.1.1//NONSGML v1.0//EN
CALSCALE:GREGORIAN
METHOD:PUBLISH
X-WR-CALNAME:Pracheen Mantra Yantra Vigyan by Kailash Siddhashram
X-ORIGINAL-URL:https://pmyv.net
X-WR-CALDESC:Events for Pracheen Mantra Yantra Vigyan by Kailash Siddhashram
BEGIN:VTIMEZONE
TZID:Asia/Kolkata
BEGIN:STANDARD
TZOFFSETFROM:+0530
TZOFFSETTO:+0530
TZNAME:IST
DTSTART:20250101T000000
END:STANDARD
END:VTIMEZONE
BEGIN:VEVENT
DTSTART;VALUE=DATE:20251204
DTEND;VALUE=DATE:20251205
DTSTAMP:20260421T054738
CREATED:20250707T143929Z
LAST-MODIFIED:20250707T143929Z
UID:25062-1764806400-1764892799@pmyv.net
SUMMARY:अन्नपूर्णा जयंती Annapoorna Jayanti
DESCRIPTION:
URL:https://pmyv.net/eventcalendar/%e0%a4%85%e0%a4%a8%e0%a5%8d%e0%a4%a8%e0%a4%aa%e0%a5%82%e0%a4%b0%e0%a5%8d%e0%a4%a3%e0%a4%be-%e0%a4%9c%e0%a4%af%e0%a4%82%e0%a4%a4%e0%a5%80-annapoorna-jayanti-4/
CATEGORIES:Kaal Nirnaya
END:VEVENT
END:VCALENDAR