BEGIN:VCALENDAR
VERSION:2.0
PRODID:-//Pracheen Mantra Yantra Vigyan by Kailash Siddhashram - ECPv5.3.1.1//NONSGML v1.0//EN
CALSCALE:GREGORIAN
METHOD:PUBLISH
X-WR-CALNAME:Pracheen Mantra Yantra Vigyan by Kailash Siddhashram
X-ORIGINAL-URL:https://pmyv.net
X-WR-CALDESC:Events for Pracheen Mantra Yantra Vigyan by Kailash Siddhashram
BEGIN:VTIMEZONE
TZID:UTC
BEGIN:STANDARD
TZOFFSETFROM:+0000
TZOFFSETTO:+0000
TZNAME:UTC
DTSTART:20240101T000000
END:STANDARD
END:VTIMEZONE
BEGIN:VEVENT
DTSTART;VALUE=DATE:20241109
DTEND;VALUE=DATE:20241110
DTSTAMP:20260421T141141
CREATED:20240115T031849Z
LAST-MODIFIED:20240115T031849Z
UID:17337-1731110400-1731196799@pmyv.net
SUMMARY:अष्टमी Ashtami
DESCRIPTION:
URL:https://pmyv.net/eventcalendar/%e0%a4%85%e0%a4%b7%e0%a5%8d%e0%a4%9f%e0%a4%ae%e0%a5%80-ashtami-85/
CATEGORIES:Kaal Nirnaya
END:VEVENT
END:VCALENDAR