BEGIN:VCALENDAR
VERSION:2.0
PRODID:-//Pracheen Mantra Yantra Vigyan by Kailash Siddhashram - ECPv5.3.1.1//NONSGML v1.0//EN
CALSCALE:GREGORIAN
METHOD:PUBLISH
X-WR-CALNAME:Pracheen Mantra Yantra Vigyan by Kailash Siddhashram
X-ORIGINAL-URL:https://pmyv.net
X-WR-CALDESC:Events for Pracheen Mantra Yantra Vigyan by Kailash Siddhashram
BEGIN:VTIMEZONE
TZID:Asia/Kolkata
BEGIN:STANDARD
TZOFFSETFROM:+0530
TZOFFSETTO:+0530
TZNAME:IST
DTSTART:20250101T000000
END:STANDARD
END:VTIMEZONE
BEGIN:VEVENT
DTSTART;VALUE=DATE:20251102
DTEND;VALUE=DATE:20251103
DTSTAMP:20260423T162902
CREATED:20250707T143113Z
LAST-MODIFIED:20250707T143113Z
UID:24900-1762041600-1762127999@pmyv.net
SUMMARY:एकादशी Ekadashi
DESCRIPTION:
URL:https://pmyv.net/eventcalendar/%e0%a4%8f%e0%a4%95%e0%a4%be%e0%a4%a6%e0%a4%b6%e0%a5%80-ekadashi-74/
CATEGORIES:Kaal Nirnaya
END:VEVENT
END:VCALENDAR