BEGIN:VCALENDAR
VERSION:2.0
PRODID:-//Pracheen Mantra Yantra Vigyan by Kailash Siddhashram - ECPv5.3.1.1//NONSGML v1.0//EN
CALSCALE:GREGORIAN
METHOD:PUBLISH
X-WR-CALNAME:Pracheen Mantra Yantra Vigyan by Kailash Siddhashram
X-ORIGINAL-URL:https://pmyv.net
X-WR-CALDESC:Events for Pracheen Mantra Yantra Vigyan by Kailash Siddhashram
BEGIN:VTIMEZONE
TZID:Asia/Kolkata
BEGIN:STANDARD
TZOFFSETFROM:+0530
TZOFFSETTO:+0530
TZNAME:IST
DTSTART:20250101T000000
END:STANDARD
END:VTIMEZONE
BEGIN:VEVENT
DTSTART;VALUE=DATE:20251101
DTEND;VALUE=DATE:20251102
DTSTAMP:20260425T160107
CREATED:20250707T142520Z
LAST-MODIFIED:20250707T142520Z
UID:24777-1761955200-1762041599@pmyv.net
SUMMARY:कार्तिक  शुक्ल Kartik Shukla
DESCRIPTION:
URL:https://pmyv.net/eventcalendar/%e0%a4%95%e0%a4%be%e0%a4%b0%e0%a5%8d%e0%a4%a4%e0%a4%bf%e0%a4%95-%e0%a4%b6%e0%a5%81%e0%a4%95%e0%a5%8d%e0%a4%b2-kartik-shukla-69/
CATEGORIES:Kaal Nirnaya
END:VEVENT
END:VCALENDAR