BEGIN:VCALENDAR
VERSION:2.0
PRODID:-//Pracheen Mantra Yantra Vigyan by Kailash Siddhashram - ECPv5.3.1.1//NONSGML v1.0//EN
CALSCALE:GREGORIAN
METHOD:PUBLISH
X-WR-CALNAME:Pracheen Mantra Yantra Vigyan by Kailash Siddhashram
X-ORIGINAL-URL:https://pmyv.net
X-WR-CALDESC:Events for Pracheen Mantra Yantra Vigyan by Kailash Siddhashram
BEGIN:VTIMEZONE
TZID:Asia/Kolkata
BEGIN:STANDARD
TZOFFSETFROM:+0530
TZOFFSETTO:+0530
TZNAME:IST
DTSTART:20250101T000000
END:STANDARD
END:VTIMEZONE
BEGIN:VEVENT
DTSTART;VALUE=DATE:20251030
DTEND;VALUE=DATE:20251031
DTSTAMP:20260425T180502
CREATED:20250707T143802Z
LAST-MODIFIED:20250707T143802Z
UID:25032-1761782400-1761868799@pmyv.net
SUMMARY:जमदग्नि पूजा Jamdagni Pooja
DESCRIPTION:
URL:https://pmyv.net/eventcalendar/%e0%a4%9c%e0%a4%ae%e0%a4%a6%e0%a4%97%e0%a5%8d%e0%a4%a8%e0%a4%bf-%e0%a4%aa%e0%a5%82%e0%a4%9c%e0%a4%be-jamdagni-pooja-2/
CATEGORIES:Kaal Nirnaya
END:VEVENT
END:VCALENDAR