BEGIN:VCALENDAR
VERSION:2.0
PRODID:-//Pracheen Mantra Yantra Vigyan by Kailash Siddhashram - ECPv5.3.1.1//NONSGML v1.0//EN
CALSCALE:GREGORIAN
METHOD:PUBLISH
X-WR-CALNAME:Pracheen Mantra Yantra Vigyan by Kailash Siddhashram
X-ORIGINAL-URL:https://pmyv.net
X-WR-CALDESC:Events for Pracheen Mantra Yantra Vigyan by Kailash Siddhashram
BEGIN:VTIMEZONE
TZID:Asia/Kolkata
BEGIN:STANDARD
TZOFFSETFROM:+0530
TZOFFSETTO:+0530
TZNAME:IST
DTSTART:20250101T000000
END:STANDARD
END:VTIMEZONE
BEGIN:VEVENT
DTSTART;VALUE=DATE:20251218
DTEND;VALUE=DATE:20251219
DTSTAMP:20260421T090337
CREATED:20250707T142728Z
LAST-MODIFIED:20250707T142728Z
UID:24824-1766016000-1766102399@pmyv.net
SUMMARY:पौष कृष्ण Paush Krishna
DESCRIPTION:
URL:https://pmyv.net/eventcalendar/%e0%a4%aa%e0%a5%8c%e0%a4%b7-%e0%a4%95%e0%a5%83%e0%a4%b7%e0%a5%8d%e0%a4%a3-paush-krishna-72/
CATEGORIES:Kaal Nirnaya
END:VEVENT
END:VCALENDAR