BEGIN:VCALENDAR
VERSION:2.0
PRODID:-//Pracheen Mantra Yantra Vigyan by Kailash Siddhashram - ECPv5.3.1.1//NONSGML v1.0//EN
CALSCALE:GREGORIAN
METHOD:PUBLISH
X-WR-CALNAME:Pracheen Mantra Yantra Vigyan by Kailash Siddhashram
X-ORIGINAL-URL:https://pmyv.net
X-WR-CALDESC:Events for Pracheen Mantra Yantra Vigyan by Kailash Siddhashram
BEGIN:VTIMEZONE
TZID:Asia/Kolkata
BEGIN:STANDARD
TZOFFSETFROM:+0530
TZOFFSETTO:+0530
TZNAME:IST
DTSTART:20250101T000000
END:STANDARD
END:VTIMEZONE
BEGIN:VEVENT
DTSTART;VALUE=DATE:20251117
DTEND;VALUE=DATE:20251118
DTSTAMP:20260421T104342
CREATED:20250707T143845Z
LAST-MODIFIED:20250707T143845Z
UID:25048-1763337600-1763423999@pmyv.net
SUMMARY:प्रदोष व्रत Pradosh Vrat
DESCRIPTION:
URL:https://pmyv.net/eventcalendar/%e0%a4%aa%e0%a5%8d%e0%a4%b0%e0%a4%a6%e0%a5%8b%e0%a4%b7-%e0%a4%b5%e0%a5%8d%e0%a4%b0%e0%a4%a4-pradosh-vrat-52/
CATEGORIES:Kaal Nirnaya
END:VEVENT
END:VCALENDAR