BEGIN:VCALENDAR
VERSION:2.0
PRODID:-//Pracheen Mantra Yantra Vigyan by Kailash Siddhashram - ECPv5.3.1.1//NONSGML v1.0//EN
CALSCALE:GREGORIAN
METHOD:PUBLISH
X-WR-CALNAME:Pracheen Mantra Yantra Vigyan by Kailash Siddhashram
X-ORIGINAL-URL:https://pmyv.net
X-WR-CALDESC:Events for Pracheen Mantra Yantra Vigyan by Kailash Siddhashram
BEGIN:VTIMEZONE
TZID:UTC
BEGIN:STANDARD
TZOFFSETFROM:+0000
TZOFFSETTO:+0000
TZNAME:UTC
DTSTART:20240101T000000
END:STANDARD
END:VTIMEZONE
BEGIN:VEVENT
DTSTART;VALUE=DATE:20241029
DTEND;VALUE=DATE:20241030
DTSTAMP:20260421T174056
CREATED:20240114T221533Z
LAST-MODIFIED:20240114T221533Z
UID:17320-1730160000-1730246399@pmyv.net
SUMMARY:भौम प्रदोष व्रत Bhom Pradosh Vrat
DESCRIPTION:
URL:https://pmyv.net/eventcalendar/%e0%a4%ad%e0%a5%8c%e0%a4%ae-%e0%a4%aa%e0%a5%8d%e0%a4%b0%e0%a4%a6%e0%a5%8b%e0%a4%b7-%e0%a4%b5%e0%a5%8d%e0%a4%b0%e0%a4%a4-bhom-pradosh-vrat-7/
CATEGORIES:Kaal Nirnaya
END:VEVENT
END:VCALENDAR