BEGIN:VCALENDAR
VERSION:2.0
PRODID:-//Pracheen Mantra Yantra Vigyan by Kailash Siddhashram - ECPv5.3.1.1//NONSGML v1.0//EN
CALSCALE:GREGORIAN
METHOD:PUBLISH
X-WR-CALNAME:Pracheen Mantra Yantra Vigyan by Kailash Siddhashram
X-ORIGINAL-URL:https://pmyv.net
X-WR-CALDESC:Events for Pracheen Mantra Yantra Vigyan by Kailash Siddhashram
BEGIN:VTIMEZONE
TZID:UTC
BEGIN:STANDARD
TZOFFSETFROM:+0000
TZOFFSETTO:+0000
TZNAME:UTC
DTSTART:20240101T000000
END:STANDARD
END:VTIMEZONE
BEGIN:VEVENT
DTSTART;VALUE=DATE:20241201
DTEND;VALUE=DATE:20241202
DTSTAMP:20260419T205832
CREATED:20240115T040705Z
LAST-MODIFIED:20240115T040705Z
UID:17419-1733011200-1733097599@pmyv.net
SUMMARY:मार्गशीर्ष अमावस्या Margsheersh Amavasya
DESCRIPTION:
URL:https://pmyv.net/eventcalendar/%e0%a4%ae%e0%a4%be%e0%a4%b0%e0%a5%8d%e0%a4%97%e0%a4%b6%e0%a5%80%e0%a4%b0%e0%a5%8d%e0%a4%b7-%e0%a4%85%e0%a4%ae%e0%a4%be%e0%a4%b5%e0%a4%b8%e0%a5%8d%e0%a4%af%e0%a4%be-margsheersh-amavasya-3/
CATEGORIES:Kaal Nirnaya
END:VEVENT
END:VCALENDAR