BEGIN:VCALENDAR
VERSION:2.0
PRODID:-//Pracheen Mantra Yantra Vigyan by Kailash Siddhashram - ECPv5.3.1.1//NONSGML v1.0//EN
CALSCALE:GREGORIAN
METHOD:PUBLISH
X-WR-CALNAME:Pracheen Mantra Yantra Vigyan by Kailash Siddhashram
X-ORIGINAL-URL:https://pmyv.net
X-WR-CALDESC:Events for Pracheen Mantra Yantra Vigyan by Kailash Siddhashram
BEGIN:VTIMEZONE
TZID:Asia/Kolkata
BEGIN:STANDARD
TZOFFSETFROM:+0530
TZOFFSETTO:+0530
TZNAME:IST
DTSTART:20250101T000000
END:STANDARD
END:VTIMEZONE
BEGIN:VEVENT
DTSTART;VALUE=DATE:20251226
DTEND;VALUE=DATE:20251227
DTSTAMP:20260421T041021
CREATED:20250707T143401Z
LAST-MODIFIED:20250707T143401Z
UID:24954-1766707200-1766793599@pmyv.net
SUMMARY:षष्टी Shashti
DESCRIPTION:
URL:https://pmyv.net/eventcalendar/%e0%a4%b7%e0%a4%b7%e0%a5%8d%e0%a4%9f%e0%a5%80-shashti-65/
CATEGORIES:Kaal Nirnaya
END:VEVENT
END:VCALENDAR